{"text_format":"1","workbook":"xlsx","n_sheets":4,"sheets":["入力フォーム","記入例","集計フォーム（事務局用）","選択項目（事務局用）"],"not_rendered":{"charts":0,"images":0,"macros":1,"external_links":0,"defined_names":2,"comments":0,"pivot_tables":0},"unopened":[],"bounds":{"document_bytes":16777216,"sheet_cells":100000,"rows_first":2000,"rows_last":500,"rows_between":2000,"halvings":0,"cell_chars":16384,"cell_head_chars":4096},"cells_cut":0,"cells_raw":0,"read":"whole","date_system":"1900"}

{"sheet":"入力フォーム","index":0,"n_rows":32,"n_cols":9,"rows_kept":32,"cut":false,"hidden":false,"merged":[[27,0,27,1],[14,2,14,3],[19,5,20,5],[15,5,16,5],[17,5,18,5],[15,0,20,0],[17,1,18,1],[19,1,20,1],[15,1,16,1],[15,4,16,4],[17,4,18,4],[25,2,25,5],[19,4,20,4],[24,0,24,5],[9,3,9,5],[12,4,12,5],[11,2,11,5],[13,4,13,5],[29,2,29,5],[5,0,6,0],[28,0,28,5],[26,0,26,5],[27,2,27,5],[1,0,1,5],[2,0,2,5],[3,0,3,5],[5,2,5,5],[13,0,13,1],[7,0,7,1],[7,2,7,5],[6,2,6,5],[12,2,12,3],[10,2,10,3],[13,2,13,3],[9,0,11,0]]}
[]
["(一社)日本応用地質学会　創立60周年記念行事"]
["参加申込フォーム 兼 参加票"]
["日本応用地質学会創立60周年記念行事への参加を以下のとおり申し込みます",null,null,null,null,null,null,null,"注意事項"]
[]
["１．氏名","ふりがな",null,null,null,null,null,null,"※着色部（水色）について入力してください"]
[]
["２．所属（勤務先・学校名等）",null,null,null,null,null,null,null,"※勤務先がない場合は「自宅」と記入してください"]
[null,null,"郵便番号\n(入力はハイフンなし7桁)"]
["３．連絡先","郵便番号・住所",null,null,null,null,null,null,"※郵便番号はハイフン無しの7桁半角数字で入力すると自動的に〒***-****の形式で表示されます"]
[null,"電話番号",null,null,"（内線番号等）",null,null,null,"※例：000-000-0000"]
[null,"E-mail"]
[null,null,"会員種別（プルダウンより選択）",null,"会員番号（非会員の方は空欄）"]
["４．会員種別・会員番号"]
[null,null,"参加・不参加のいずれかを選択",null,"金額","備考"]
["５．参加申込","　　シンポジウム","参加","不参加",{"$f":"IFERROR(IF($G17=1,INDEX('選択項目（事務局用）'!$B$5:$E$7,MATCH(入力フォーム!$B16,'選択項目（事務局用）'!$A$5:$A$7,0),MATCH(入力フォーム!$C$14,'選択項目（事務局用）'!$B$4:$E$4,0)),0),\"\")","v":""}]
[null,null,null,null,null,null,1,false]
[null,"　　祝賀会（意見交換会）","参加","不参加",{"$f":"IFERROR(IF($G19=1,INDEX('選択項目（事務局用）'!$B$5:$E$7,MATCH(入力フォーム!$B18,'選択項目（事務局用）'!$A$5:$A$7,0),MATCH(入力フォーム!$C$14,'選択項目（事務局用）'!$B$4:$E$4,0)),0),\"\")","v":""}]
[null,null,null,null,null,null,1,false]
[null,"　　現地見学会(先着50名)","参加","不参加",{"$f":"IFERROR(IF($G21=1,INDEX('選択項目（事務局用）'!$B$5:$E$7,MATCH(入力フォーム!$B20,'選択項目（事務局用）'!$A$5:$A$7,0),MATCH(入力フォーム!$C$14,'選択項目（事務局用）'!$B$4:$E$4,0)),0),\"\")","v":""},{"$f":"IF(AND(LEFT(C14,3)=\"非会員\",入力フォーム!G21=1),\"現地見学会への参加申込みは会員優先となります。ご了承ください。\",\"\")","v":""}]
[null,null,null,null,null,null,1,false]
[null,null,null,"合計",{"$f":"SUM(E16:E21)","v":0}]
[]
["●参加申し込み手続きについて"]
["１．上記項目の入力が全て終了したら、下の「事務局使用欄にQRコードを表示」ボタンを押してQRコードを表示させてください。"]
[null,null,"※ボタンを押す前にマクロを有効にしてください。マクロが有効な状態でボタンを押しても\n　QRコードが表示されない場合は学会事務局(office@jseg.or.jp)までご連絡ください。"]
["２．記入後の本ファイルは行事参加申し込み専用アドレス(registration@jseg.or.jp)宛に添付してお送りください。"]
[null,null,"※左のボタンが使えない場合、お手数ですが手動でメールソフトを立ち上げてください。\n　その際、メールの件名は「創立60周年記念行事参加申し込み」としてください。"]
["３．この用紙は参加票を兼ねますので、QRコードが表示されている状態で印刷し、シンポジウム・祝賀会当日に受付までご提出ください。"]
[null,null,"※現地見学会のみ参加される方は印刷不要です。"]
["事務局使用欄",null,null,null,null,"通信欄"]
[{"$f":"'集計フォーム（事務局用）'!B4&\",\"&'集計フォーム（事務局用）'!D4&\",\"&'集計フォーム（事務局用）'!I4&\",\"&'集計フォーム（事務局用）'!J4&\",\"&'集計フォーム（事務局用）'!L4&\",\"&'集計フォーム（事務局用）'!M4&\",\"&'集計フォーム（事務局用）'!T4&\",\"&'集計フォーム（事務局用）'!N4&\",\"&'集計フォーム（事務局用）'!O4&\",\"&'集計フォーム（事務局用）'!V4&\",\"&'集計フォーム（事務局用）'!P4&\",\"&'集計フォーム（事務局用）'!Q4&\",\"&'集計フォーム（事務局用）'!X4","v":"0,0,0,0,○,,,○,,,○,,"}]

{"sheet":"記入例","index":1,"n_rows":32,"n_cols":9,"rows_kept":32,"cut":false,"hidden":false,"merged":[[29,2,29,5],[24,0,24,5],[25,2,25,5],[26,0,26,5],[27,0,27,1],[27,2,27,5],[28,0,28,5],[15,0,20,0],[15,1,16,1],[15,4,16,4],[15,5,16,5],[17,1,18,1],[17,4,18,4],[17,5,18,5],[19,1,20,1],[19,4,20,4],[19,5,20,5],[14,2,14,3],[7,0,7,1],[7,2,7,5],[9,0,11,0],[9,3,9,5],[10,2,10,3],[11,2,11,5],[12,2,12,3],[12,4,12,5],[13,0,13,1],[13,2,13,3],[13,4,13,5],[1,0,1,5],[2,0,2,5],[3,0,3,5],[5,0,6,0],[5,2,5,5],[6,2,6,5]]}
[]
["(一社)日本応用地質学会　創立60周年記念行事"]
["参加申込フォーム 兼 参加票　（記入例）"]
["日本応用地質学会創立60周年記念行事への参加を以下のとおり申し込みます",null,null,null,null,null,null,null,"注意事項"]
[]
["１．氏名","ふりがな","おうよう　たろう",null,null,null,null,null,"※着色部（水色）について入力してください"]
[null,null,"応用　太郎"]
["２．所属（勤務先・学校名等）",null,"平成地質(株)　事業企画部",null,null,null,null,null,"※勤務先がない場合は「自宅」と記入してください"]
[null,null,"郵便番号\n(入力はハイフンなし7桁)"]
["３．連絡先","郵便番号・住所",1010062,"東京都千代田区神田駿河台2-3-14",null,null,null,null,"※郵便番号はハイフン無しの7桁半角数字で入力すると自動的に〒***-****の形式で表示されます"]
[null,"電話番号","03-3259-8232",null,"（内線番号等）",1234,null,null,"※例：000-000-0000"]
[null,"E-mail","office@jseg.or.jp"]
[null,null,"会員種別（プルダウンより選択）",null,"会員番号（非会員の方は空欄）"]
["４．会員種別・会員番号",null,"正会員または名誉会員",null,1234]
[null,null,"参加・不参加のいずれかを選択",null,"金額","備考"]
["５．参加申込","　　シンポジウム","参加","不参加",{"$f":"IFERROR(IF($G17=1,INDEX('選択項目（事務局用）'!$B$5:$E$7,MATCH(記入例!$B16,'選択項目（事務局用）'!$A$5:$A$7,0),MATCH(記入例!$C$14,'選択項目（事務局用）'!$B$4:$E$4,0)),0),\"\")","v":4000}]
[null,null,null,null,null,null,1,false]
[null,"　　祝賀会（意見交換会）","参加","不参加",{"$f":"IFERROR(IF($G19=1,INDEX('選択項目（事務局用）'!$B$5:$E$7,MATCH(記入例!$B18,'選択項目（事務局用）'!$A$5:$A$7,0),MATCH(記入例!$C$14,'選択項目（事務局用）'!$B$4:$E$4,0)),0),\"\")","v":7000}]
[null,null,null,null,null,null,1,false]
[null,"　　現地見学会(先着50名)","参加","不参加",{"$f":"IFERROR(IF($G21=1,INDEX('選択項目（事務局用）'!$B$5:$E$7,MATCH(記入例!$B20,'選択項目（事務局用）'!$A$5:$A$7,0),MATCH(記入例!$C$14,'選択項目（事務局用）'!$B$4:$E$4,0)),0),\"\")","v":8000},{"$f":"IF(AND(LEFT(C14,3)=\"非会員\",記入例!G21=1),\"現地見学会への参加申込みは会員優先となります。ご了承ください。\",\"\")","v":""}]
[null,null,null,null,null,null,1,false]
[null,null,null,"合計",{"$f":"SUM(E16:E21)","v":19000}]
[]
["●参加申し込み手続きについて"]
["１．上記項目の入力が全て終了したら、下の「事務局使用欄にQRコードを表示」ボタンを押してQRコードを表示させてください。"]
[null,null,"※ボタンを押す前にマクロを有効にしてください。マクロが有効な状態でボタンを押しても\n　QRコードが表示されない場合は学会事務局(office@jseg.or.jp)までご連絡ください。"]
["２．記入後の本ファイルは行事参加申し込み専用アドレス(registration@jseg.or.jp)宛に添付してお送りください。"]
[null,null,"※左のボタンが使えない場合、お手数ですが手動でメールソフトを立ち上げてください。\n　その際、メールの件名は「創立60周年記念行事参加申し込み」としてください。"]
["３．この用紙は参加票を兼ねますので、QRコードが表示されている状態で印刷し、シンポジウム・祝賀会当日に受付までご提出ください。"]
[null,null,"※現地見学会のみ参加される方は印刷不要です。"]
["事務局使用欄",null,null,null,null,"通信欄"]
[{"$f":"C7&\",\"&C8&\",\"&C12&\",\"&C14&\",\"&\"○\"&\",\"&E16&\",,\"&\"○\"&\",\"&E18&\",,\"&\"○\"&\",\"&E20&\",\"","v":"応用　太郎,平成地質(株)　事業企画部,office@jseg.or.jp,正会員または名誉会員,○,4000,,○,7000,,○,8000,"}]

{"sheet":"集計フォーム（事務局用）","index":2,"n_rows":4,"n_cols":27,"rows_kept":4,"cut":false,"hidden":false,"merged":[[1,26,2,26],[1,11,1,17],[1,3,2,3],[1,18,1,25],[1,0,2,0],[1,2,2,2],[1,1,2,1],[1,4,1,8],[1,9,1,10]]}
[null,"事務局集計フォーム"]
["No.",{"$f":"入力フォーム!A6","v":"１．氏名"},{"$f":"入力フォーム!B6","v":"ふりがな"},"２．所属",{"$f":"入力フォーム!A10","v":"３．連絡先"},null,null,null,null,{"$f":"入力フォーム!A14","v":"４．会員種別・会員番号"},null,{"$f":"入力フォーム!A16","v":"５．参加申込"},null,null,null,null,null,null,"事務局使用欄",null,null,null,null,null,null,null,"通信欄"]
[null,null,null,null,"郵便番号","住所",{"$f":"入力フォーム!B11","v":"電話番号"},"内線番号等",{"$f":"入力フォーム!B12","v":"E-mail"},"会員種別","会員番号","シンポジウム",{"$f":"入力フォーム!E15","v":"金額"},"祝賀会（意見交換会）",{"$f":"$M3","v":"金額"},"現地見学会",{"$f":"$M3","v":"金額"},{"$f":"入力フォーム!D22","v":"合計"},"シ",null,"意",null,"現",null,"■"]
[{"$f":"MID(CELL(\"filename\",A1),FIND(\"[\",CELL(\"filename\",A1))+1,FIND(\".x\",CELL(\"filename\",A1))-FIND(\"[\",CELL(\"filename\",A1))-1)*1","v":{"$error":"#VALUE!"}},{"$f":"入力フォーム!$C$7","v":0},{"$f":"入力フォーム!$C$6","v":0},{"$f":"入力フォーム!C8","v":0},{"$f":"入力フォーム!$C$10","v":0},{"$f":"入力フォーム!$D$10","v":0},{"$f":"入力フォーム!$C$11","v":0},{"$f":"IF(入力フォーム!$F$11=\"\",\"\",入力フォーム!$F$11)","v":""},{"$f":"入力フォーム!$C$12","v":0},{"$f":"入力フォーム!$C$14","v":0},{"$f":"IF(入力フォーム!$E$14=\"\",\"\",入力フォーム!$E$14)","v":""},{"$f":"IF(入力フォーム!$G17=1,\"○\",\"×\")","v":"○"},{"$f":"入力フォーム!$E16","v":""},{"$f":"IF(入力フォーム!$G19=1,\"○\",\"×\")","v":"○"},{"$f":"入力フォーム!$E18","v":""},{"$f":"IF(入力フォーム!$G21=1,\"○\",\"×\")","v":"○"},{"$f":"入力フォーム!$E20","v":""},{"$f":"M4+O4+Q4","v":{"$error":"#VALUE!"}},{"$f":"IF(AA4=\"\",\"\",IF(入力フォーム!$H17=TRUE,M4,\"\"))","v":""},{"$f":"IF(AA4=\"\",\"\",IF(入力フォーム!$H17=TRUE,\"■\",\"\"))","v":""},{"$f":"IF(AA4=\"\",\"\",IF(入力フォーム!$H19=TRUE,O4,\"\"))","v":""},{"$f":"IF(AA4=\"\",\"\",IF(入力フォーム!$H19=TRUE,\"■\",\"\"))","v":""},{"$f":"IF(AA4=\"\",\"\",IF(入力フォーム!$H21=TRUE,Q4,\"\"))","v":""},{"$f":"IF(AA4=\"\",\"\",IF(入力フォーム!$H21=TRUE,\"■\",\"\"))","v":""},{"$f":"IF(AND(T4=\"\",V4=\"\",X4=\"\"),\"\",SUM(S4:W4))","v":""},{"$f":"IF(Y4=\"\",\"\",R4-Y4)","v":""},{"$f":"IF(入力フォーム!$F$33=\"\",\"\",入力フォーム!$F$33)","v":""}]

{"sheet":"選択項目（事務局用）","index":3,"n_rows":7,"n_cols":5,"rows_kept":7,"cut":false,"hidden":false,"merged":[]}
["選択項目："]
[2,"正会員または名誉会員","学生会員","非会員（一般）","非会員（学生）"]
[]
["参加費：",{"$f":"B2","v":"正会員または名誉会員"},{"$f":"C2","v":"学生会員"},{"$f":"D2","v":"非会員（一般）"},{"$f":"E2","v":"非会員（学生）"}]
[{"$f":"入力フォーム!B16","v":"　　シンポジウム"},4000,{"$f":"B5/2","v":2000},{"$f":"B5*1.5","v":6000},{"$f":"C5*1.5","v":3000}]
[{"$f":"入力フォーム!B18","v":"　　祝賀会（意見交換会）"},7000,{"$f":"B6/2","v":3500},{"$f":"B6","v":7000},{"$f":"C6","v":3500}]
[{"$f":"入力フォーム!B20","v":"　　現地見学会(先着50名)"},8000,{"$f":"B7/2","v":4000},{"$f":"B7","v":8000},{"$f":"C7","v":4000}]